BEGIN:VCALENDAR
VERSION:2.0
PRODID:-//Ørum-Viskum-Vejrum kirker - ECPv6.15.20//NONSGML v1.0//EN
CALSCALE:GREGORIAN
METHOD:PUBLISH
X-WR-CALNAME:Ørum-Viskum-Vejrum kirker
X-ORIGINAL-URL:https://oevv.dk
X-WR-CALDESC:Begivenheder for Ørum-Viskum-Vejrum kirker
REFRESH-INTERVAL;VALUE=DURATION:PT1H
X-Robots-Tag:noindex
X-PUBLISHED-TTL:PT1H
BEGIN:VTIMEZONE
TZID:Europe/Copenhagen
BEGIN:DAYLIGHT
TZOFFSETFROM:+0100
TZOFFSETTO:+0200
TZNAME:CEST
DTSTART:20250330T010000
END:DAYLIGHT
BEGIN:STANDARD
TZOFFSETFROM:+0200
TZOFFSETTO:+0100
TZNAME:CET
DTSTART:20251026T010000
END:STANDARD
BEGIN:DAYLIGHT
TZOFFSETFROM:+0100
TZOFFSETTO:+0200
TZNAME:CEST
DTSTART:20260329T010000
END:DAYLIGHT
BEGIN:STANDARD
TZOFFSETFROM:+0200
TZOFFSETTO:+0100
TZNAME:CET
DTSTART:20261025T010000
END:STANDARD
BEGIN:DAYLIGHT
TZOFFSETFROM:+0100
TZOFFSETTO:+0200
TZNAME:CEST
DTSTART:20270328T010000
END:DAYLIGHT
BEGIN:STANDARD
TZOFFSETFROM:+0200
TZOFFSETTO:+0100
TZNAME:CET
DTSTART:20271031T010000
END:STANDARD
END:VTIMEZONE
BEGIN:VEVENT
DTSTART;TZID=Europe/Copenhagen:20260201T091500
DTEND;TZID=Europe/Copenhagen:20260201T100000
DTSTAMP:20260423T110210
CREATED:20251128T074623Z
LAST-MODIFIED:20251128T074700Z
UID:3035-1769937300-1769940000@oevv.dk
SUMMARY:Septuagesima søndag - Vejrum kirke
DESCRIPTION:Ved Søren Christensen
URL:https://oevv.dk/event/septuagesima-soendag-vejrum-kirke-2/
LOCATION:Vejrum kirke\, Kirkebakken 8A\, Vejrumbro\, Tjele\, 8830\, Danmark
CATEGORIES:Gudstjeneste
ATTACH;FMTTYPE=image/jpeg:https://oevv.dk/wp-content/uploads/2022/07/Vejrum-kirke.jpg
END:VEVENT
BEGIN:VEVENT
DTSTART;TZID=Europe/Copenhagen:20260201T103000
DTEND;TZID=Europe/Copenhagen:20260201T113000
DTSTAMP:20260423T110210
CREATED:20251128T074900Z
LAST-MODIFIED:20251128T074900Z
UID:3037-1769941800-1769945400@oevv.dk
SUMMARY:Septuagesima søndag - Ørum kirke
DESCRIPTION:Ved Søren Christensen
URL:https://oevv.dk/event/septuagesima-soendag-oerum-kirke-3/
LOCATION:Ørum kirke\, Østergade 27\, Ørum\, Tjele\, 8830\, Danmark
CATEGORIES:Gudstjeneste
ATTACH;FMTTYPE=image/jpeg:https://oevv.dk/wp-content/uploads/2022/07/oerum-kirke.jpg
END:VEVENT
BEGIN:VEVENT
DTSTART;TZID=Europe/Copenhagen:20260208T091500
DTEND;TZID=Europe/Copenhagen:20260208T100000
DTSTAMP:20260423T110210
CREATED:20251128T075012Z
LAST-MODIFIED:20251128T075215Z
UID:3039-1770542100-1770544800@oevv.dk
SUMMARY:Seksagesima søndag - Ørum kirke
DESCRIPTION:Ved Søren Christensen
URL:https://oevv.dk/event/seksagesima-soendag-oerum-kirke-3/
LOCATION:Ørum kirke\, Østergade 27\, Ørum\, Tjele\, 8830\, Danmark
CATEGORIES:Gudstjeneste
ATTACH;FMTTYPE=image/jpeg:https://oevv.dk/wp-content/uploads/2022/07/oerum-kirke.jpg
END:VEVENT
BEGIN:VEVENT
DTSTART;TZID=Europe/Copenhagen:20260208T103000
DTEND;TZID=Europe/Copenhagen:20260208T113000
DTSTAMP:20260423T110210
CREATED:20251128T075144Z
LAST-MODIFIED:20251128T075452Z
UID:3041-1770546600-1770550200@oevv.dk
SUMMARY:Seksagesima søndag - Viskum kirke
DESCRIPTION:Ved Søren Christensen
URL:https://oevv.dk/event/seksagesima-soendag-vejrum-kirke-2/
LOCATION:Viskum kirke\, Østervangsvej 28A\, Tjele\, 8830\, Danmark
CATEGORIES:Gudstjeneste
ATTACH;FMTTYPE=image/png:https://oevv.dk/wp-content/uploads/2022/07/viskum-1.png
END:VEVENT
BEGIN:VEVENT
DTSTART;TZID=Europe/Copenhagen:20260215T091500
DTEND;TZID=Europe/Copenhagen:20260215T100000
DTSTAMP:20260423T110210
CREATED:20251128T075408Z
LAST-MODIFIED:20251128T075408Z
UID:3043-1771146900-1771149600@oevv.dk
SUMMARY:Fastelavns søndag - Ørum kirke
DESCRIPTION:Ved Søren Christensen
URL:https://oevv.dk/event/fastelavns-soendag-oerum-kirke/
LOCATION:Ørum kirke\, Østergade 27\, Ørum\, Tjele\, 8830\, Danmark
CATEGORIES:Gudstjeneste
ATTACH;FMTTYPE=image/jpeg:https://oevv.dk/wp-content/uploads/2022/07/oerum-kirke.jpg
END:VEVENT
BEGIN:VEVENT
DTSTART;TZID=Europe/Copenhagen:20260215T103000
DTEND;TZID=Europe/Copenhagen:20260215T113000
DTSTAMP:20260423T110210
CREATED:20251128T075626Z
LAST-MODIFIED:20251128T075626Z
UID:3046-1771151400-1771155000@oevv.dk
SUMMARY:Fastelavns søndag - Vejrum kirke
DESCRIPTION:Ved Søren Christensen
URL:https://oevv.dk/event/fastelavns-soendag-vejrum-kirke/
LOCATION:Vejrum kirke\, Kirkebakken 8A\, Vejrumbro\, Tjele\, 8830\, Danmark
CATEGORIES:Gudstjeneste
ATTACH;FMTTYPE=image/jpeg:https://oevv.dk/wp-content/uploads/2022/07/Vejrum-kirke.jpg
END:VEVENT
END:VCALENDAR