BEGIN:VCALENDAR
VERSION:2.0
PRODID:-//Ørum-Viskum-Vejrum kirker - ECPv6.15.20//NONSGML v1.0//EN
CALSCALE:GREGORIAN
METHOD:PUBLISH
X-WR-CALNAME:Ørum-Viskum-Vejrum kirker
X-ORIGINAL-URL:https://oevv.dk
X-WR-CALDESC:Begivenheder for Ørum-Viskum-Vejrum kirker
REFRESH-INTERVAL;VALUE=DURATION:PT1H
X-Robots-Tag:noindex
X-PUBLISHED-TTL:PT1H
BEGIN:VTIMEZONE
TZID:Europe/Copenhagen
BEGIN:DAYLIGHT
TZOFFSETFROM:+0100
TZOFFSETTO:+0200
TZNAME:CEST
DTSTART:20230326T010000
END:DAYLIGHT
BEGIN:STANDARD
TZOFFSETFROM:+0200
TZOFFSETTO:+0100
TZNAME:CET
DTSTART:20231029T010000
END:STANDARD
BEGIN:DAYLIGHT
TZOFFSETFROM:+0100
TZOFFSETTO:+0200
TZNAME:CEST
DTSTART:20240331T010000
END:DAYLIGHT
BEGIN:STANDARD
TZOFFSETFROM:+0200
TZOFFSETTO:+0100
TZNAME:CET
DTSTART:20241027T010000
END:STANDARD
BEGIN:DAYLIGHT
TZOFFSETFROM:+0100
TZOFFSETTO:+0200
TZNAME:CEST
DTSTART:20250330T010000
END:DAYLIGHT
BEGIN:STANDARD
TZOFFSETFROM:+0200
TZOFFSETTO:+0100
TZNAME:CET
DTSTART:20251026T010000
END:STANDARD
END:VTIMEZONE
BEGIN:VEVENT
DTSTART;TZID=Europe/Copenhagen:20241211T160000
DTEND;TZID=Europe/Copenhagen:20241211T170000
DTSTAMP:20260425T024010
CREATED:20241202T101158Z
LAST-MODIFIED:20241202T101208Z
UID:2538-1733932800-1733936400@oevv.dk
SUMMARY:Julehygge med glögg og æbleskiver - Viskum kirke
DESCRIPTION:
URL:https://oevv.dk/event/julehygge-med-glogg-og-aebleskiver-viskum-kirke/
LOCATION:Viskum kirke\, Østervangsvej 28A\, Tjele\, 8830\, Danmark
CATEGORIES:Kirkegården
ATTACH;FMTTYPE=image/png:https://oevv.dk/wp-content/uploads/2022/07/viskum-1.png
END:VEVENT
BEGIN:VEVENT
DTSTART;TZID=Europe/Copenhagen:20241212T160000
DTEND;TZID=Europe/Copenhagen:20241212T170000
DTSTAMP:20260425T024010
CREATED:20241202T101326Z
LAST-MODIFIED:20241202T101326Z
UID:2541-1734019200-1734022800@oevv.dk
SUMMARY:Julehygge med glögg og æbleskiver - Vejrum kirke
DESCRIPTION:
URL:https://oevv.dk/event/julehygge-med-glogg-og-aebleskiver-vejrum-kirke/
LOCATION:Vejrum kirke\, Kirkebakken 8A\, Vejrumbro\, Tjele\, 8830\, Danmark
CATEGORIES:Kirkegården
ATTACH;FMTTYPE=image/jpeg:https://oevv.dk/wp-content/uploads/2022/07/Vejrum-kirke.jpg
END:VEVENT
END:VCALENDAR