BEGIN:VCALENDAR
VERSION:2.0
PRODID:-//Ørum-Viskum-Vejrum kirker - ECPv6.15.20//NONSGML v1.0//EN
CALSCALE:GREGORIAN
METHOD:PUBLISH
X-ORIGINAL-URL:https://oevv.dk
X-WR-CALDESC:Begivenheder for Ørum-Viskum-Vejrum kirker
REFRESH-INTERVAL;VALUE=DURATION:PT1H
X-Robots-Tag:noindex
X-PUBLISHED-TTL:PT1H
BEGIN:VTIMEZONE
TZID:Europe/Copenhagen
BEGIN:DAYLIGHT
TZOFFSETFROM:+0100
TZOFFSETTO:+0200
TZNAME:CEST
DTSTART:20240331T010000
END:DAYLIGHT
BEGIN:STANDARD
TZOFFSETFROM:+0200
TZOFFSETTO:+0100
TZNAME:CET
DTSTART:20241027T010000
END:STANDARD
BEGIN:DAYLIGHT
TZOFFSETFROM:+0100
TZOFFSETTO:+0200
TZNAME:CEST
DTSTART:20250330T010000
END:DAYLIGHT
BEGIN:STANDARD
TZOFFSETFROM:+0200
TZOFFSETTO:+0100
TZNAME:CET
DTSTART:20251026T010000
END:STANDARD
BEGIN:DAYLIGHT
TZOFFSETFROM:+0100
TZOFFSETTO:+0200
TZNAME:CEST
DTSTART:20260329T010000
END:DAYLIGHT
BEGIN:STANDARD
TZOFFSETFROM:+0200
TZOFFSETTO:+0100
TZNAME:CET
DTSTART:20261025T010000
END:STANDARD
END:VTIMEZONE
BEGIN:VEVENT
DTSTART;TZID=Europe/Copenhagen:20250612T170000
DTEND;TZID=Europe/Copenhagen:20250612T200000
DTSTAMP:20260424T164656
CREATED:20250530T131623Z
LAST-MODIFIED:20250530T131623Z
UID:2802-1749747600-1749758400@oevv.dk
SUMMARY:Gud og grill
DESCRIPTION:
URL:https://oevv.dk/event/gud-og-grill/
LOCATION:Vejrum kirke\, Kirkebakken 8A\, Vejrumbro\, Tjele\, 8830\, Danmark
CATEGORIES:Gudstjeneste,Kirkegården
END:VEVENT
END:VCALENDAR