BEGIN:VCALENDAR
VERSION:2.0
PRODID:-//Ørum-Viskum-Vejrum kirker - ECPv6.15.20//NONSGML v1.0//EN
CALSCALE:GREGORIAN
METHOD:PUBLISH
X-WR-CALNAME:Ørum-Viskum-Vejrum kirker
X-ORIGINAL-URL:https://oevv.dk
X-WR-CALDESC:Begivenheder for Ørum-Viskum-Vejrum kirker
REFRESH-INTERVAL;VALUE=DURATION:PT1H
X-Robots-Tag:noindex
X-PUBLISHED-TTL:PT1H
BEGIN:VTIMEZONE
TZID:Europe/Copenhagen
BEGIN:DAYLIGHT
TZOFFSETFROM:+0100
TZOFFSETTO:+0200
TZNAME:CEST
DTSTART:20240331T010000
END:DAYLIGHT
BEGIN:STANDARD
TZOFFSETFROM:+0200
TZOFFSETTO:+0100
TZNAME:CET
DTSTART:20241027T010000
END:STANDARD
BEGIN:DAYLIGHT
TZOFFSETFROM:+0100
TZOFFSETTO:+0200
TZNAME:CEST
DTSTART:20250330T010000
END:DAYLIGHT
BEGIN:STANDARD
TZOFFSETFROM:+0200
TZOFFSETTO:+0100
TZNAME:CET
DTSTART:20251026T010000
END:STANDARD
BEGIN:DAYLIGHT
TZOFFSETFROM:+0100
TZOFFSETTO:+0200
TZNAME:CEST
DTSTART:20260329T010000
END:DAYLIGHT
BEGIN:STANDARD
TZOFFSETFROM:+0200
TZOFFSETTO:+0100
TZNAME:CET
DTSTART:20261025T010000
END:STANDARD
END:VTIMEZONE
BEGIN:VEVENT
DTSTART;TZID=Europe/Copenhagen:20251209T150000
DTEND;TZID=Europe/Copenhagen:20251209T163000
DTSTAMP:20260423T151930
CREATED:20251128T081513Z
LAST-MODIFIED:20251128T081513Z
UID:3065-1765292400-1765297800@oevv.dk
SUMMARY:Glögg og æbleskiver - Vejrum kirke
DESCRIPTION:Ved Mette Clausen
URL:https://oevv.dk/event/glogg-og-aebleskiver-vejrum-kirke/
LOCATION:Vejrum kirke\, Kirkebakken 8A\, Vejrumbro\, Tjele\, 8830\, Danmark
CATEGORIES:Kirkegården
ATTACH;FMTTYPE=image/jpeg:https://oevv.dk/wp-content/uploads/2022/07/Vejrum-kirke.jpg
END:VEVENT
BEGIN:VEVENT
DTSTART;TZID=Europe/Copenhagen:20251210T150000
DTEND;TZID=Europe/Copenhagen:20251210T163000
DTSTAMP:20260423T151930
CREATED:20251128T081643Z
LAST-MODIFIED:20251128T081643Z
UID:3067-1765378800-1765384200@oevv.dk
SUMMARY:Glögg og æbleskiver - Viskum kirke
DESCRIPTION:Ved Mette Clausen
URL:https://oevv.dk/event/glogg-og-aebleskiver-viskum-kirke/
LOCATION:Viskum kirke\, Østervangsvej 28A\, Tjele\, 8830\, Danmark
CATEGORIES:Kirkegården
ATTACH;FMTTYPE=image/png:https://oevv.dk/wp-content/uploads/2022/07/viskum-1.png
END:VEVENT
END:VCALENDAR