BEGIN:VCALENDAR
VERSION:2.0
PRODID:-//Ørum-Viskum-Vejrum kirker - ECPv6.15.20//NONSGML v1.0//EN
CALSCALE:GREGORIAN
METHOD:PUBLISH
X-WR-CALNAME:Ørum-Viskum-Vejrum kirker
X-ORIGINAL-URL:https://oevv.dk
X-WR-CALDESC:Begivenheder for Ørum-Viskum-Vejrum kirker
REFRESH-INTERVAL;VALUE=DURATION:PT1H
X-Robots-Tag:noindex
X-PUBLISHED-TTL:PT1H
BEGIN:VTIMEZONE
TZID:Europe/Copenhagen
BEGIN:DAYLIGHT
TZOFFSETFROM:+0100
TZOFFSETTO:+0200
TZNAME:CEST
DTSTART:20230326T010000
END:DAYLIGHT
BEGIN:STANDARD
TZOFFSETFROM:+0200
TZOFFSETTO:+0100
TZNAME:CET
DTSTART:20231029T010000
END:STANDARD
BEGIN:DAYLIGHT
TZOFFSETFROM:+0100
TZOFFSETTO:+0200
TZNAME:CEST
DTSTART:20240331T010000
END:DAYLIGHT
BEGIN:STANDARD
TZOFFSETFROM:+0200
TZOFFSETTO:+0100
TZNAME:CET
DTSTART:20241027T010000
END:STANDARD
BEGIN:DAYLIGHT
TZOFFSETFROM:+0100
TZOFFSETTO:+0200
TZNAME:CEST
DTSTART:20250330T010000
END:DAYLIGHT
BEGIN:STANDARD
TZOFFSETFROM:+0200
TZOFFSETTO:+0100
TZNAME:CET
DTSTART:20251026T010000
END:STANDARD
END:VTIMEZONE
BEGIN:VEVENT
DTSTART;TZID=Europe/Copenhagen:20240507T190000
DTEND;TZID=Europe/Copenhagen:20240507T210000
DTSTAMP:20260421T072641
CREATED:20240430T120403Z
LAST-MODIFIED:20240430T120403Z
UID:2307-1715108400-1715115600@oevv.dk
SUMMARY:Menighedsmøde og orientering om menighedsrådsvalg
DESCRIPTION:
URL:https://oevv.dk/event/menighedsmoede-og-orientering-om-menighedsraadsvalg/
LOCATION:Konfirmandstuen\, Præstegårdsvej 6\, Ørum\, Tjele\, 8830\, Danmark
CATEGORIES:Menighedsmøde
END:VEVENT
BEGIN:VEVENT
DTSTART;TZID=Europe/Copenhagen:20240514T190000
DTEND;TZID=Europe/Copenhagen:20240514T210000
DTSTAMP:20260421T072641
CREATED:20240430T120509Z
LAST-MODIFIED:20240430T120509Z
UID:2309-1715713200-1715720400@oevv.dk
SUMMARY:Orientering om menighedsrådsvalg
DESCRIPTION:
URL:https://oevv.dk/event/orientering-om-menighedsraadsvalg/
LOCATION:Nørreåhuset\, Hovedgaden 25\, Vejrumbro\, Tjele\, 8830
CATEGORIES:Menighedsmøde
END:VEVENT
END:VCALENDAR