BEGIN:VCALENDAR
VERSION:2.0
PRODID:-//Ørum-Viskum-Vejrum kirker - ECPv6.15.20//NONSGML v1.0//EN
CALSCALE:GREGORIAN
METHOD:PUBLISH
X-ORIGINAL-URL:https://oevv.dk
X-WR-CALDESC:Begivenheder for Ørum-Viskum-Vejrum kirker
REFRESH-INTERVAL;VALUE=DURATION:PT1H
X-Robots-Tag:noindex
X-PUBLISHED-TTL:PT1H
BEGIN:VTIMEZONE
TZID:Europe/Copenhagen
BEGIN:DAYLIGHT
TZOFFSETFROM:+0100
TZOFFSETTO:+0200
TZNAME:CEST
DTSTART:20240331T010000
END:DAYLIGHT
BEGIN:STANDARD
TZOFFSETFROM:+0200
TZOFFSETTO:+0100
TZNAME:CET
DTSTART:20241027T010000
END:STANDARD
BEGIN:DAYLIGHT
TZOFFSETFROM:+0100
TZOFFSETTO:+0200
TZNAME:CEST
DTSTART:20250330T010000
END:DAYLIGHT
BEGIN:STANDARD
TZOFFSETFROM:+0200
TZOFFSETTO:+0100
TZNAME:CET
DTSTART:20251026T010000
END:STANDARD
BEGIN:DAYLIGHT
TZOFFSETFROM:+0100
TZOFFSETTO:+0200
TZNAME:CEST
DTSTART:20260329T010000
END:DAYLIGHT
BEGIN:STANDARD
TZOFFSETFROM:+0200
TZOFFSETTO:+0100
TZNAME:CET
DTSTART:20261025T010000
END:STANDARD
END:VTIMEZONE
BEGIN:VEVENT
DTSTART;TZID=Europe/Copenhagen:20250604T190000
DTEND;TZID=Europe/Copenhagen:20250604T190000
DTSTAMP:20260425T025049
CREATED:20250222T110545Z
LAST-MODIFIED:20250530T123809Z
UID:2713-1749063600-1749063600@oevv.dk
SUMMARY:Aflyst: Forfulgte kristne - Konfirmandstuen\, Ørum
DESCRIPTION:Palle Flyger er desværre blevet syg\, og derfor er aftenen aflyst.
URL:https://oevv.dk/event/forfulgte-kristne-konfirmandstuen-oerum/
LOCATION:Konfirmandstuen\, Præstegårdsvej 6\, Ørum\, Tjele\, 8830\, Danmark
CATEGORIES:Foredrag
ATTACH;FMTTYPE=image/png:https://oevv.dk/wp-content/uploads/2025/02/Palle-Flyger.png
END:VEVENT
END:VCALENDAR