BEGIN:VCALENDAR
VERSION:2.0
PRODID:-//Ørum-Viskum-Vejrum kirker - ECPv6.15.20//NONSGML v1.0//EN
CALSCALE:GREGORIAN
METHOD:PUBLISH
X-WR-CALNAME:Ørum-Viskum-Vejrum kirker
X-ORIGINAL-URL:https://oevv.dk
X-WR-CALDESC:Begivenheder for Ørum-Viskum-Vejrum kirker
REFRESH-INTERVAL;VALUE=DURATION:PT1H
X-Robots-Tag:noindex
X-PUBLISHED-TTL:PT1H
BEGIN:VTIMEZONE
TZID:Europe/Copenhagen
BEGIN:DAYLIGHT
TZOFFSETFROM:+0100
TZOFFSETTO:+0200
TZNAME:CEST
DTSTART:20240331T010000
END:DAYLIGHT
BEGIN:STANDARD
TZOFFSETFROM:+0200
TZOFFSETTO:+0100
TZNAME:CET
DTSTART:20241027T010000
END:STANDARD
BEGIN:DAYLIGHT
TZOFFSETFROM:+0100
TZOFFSETTO:+0200
TZNAME:CEST
DTSTART:20250330T010000
END:DAYLIGHT
BEGIN:STANDARD
TZOFFSETFROM:+0200
TZOFFSETTO:+0100
TZNAME:CET
DTSTART:20251026T010000
END:STANDARD
BEGIN:DAYLIGHT
TZOFFSETFROM:+0100
TZOFFSETTO:+0200
TZNAME:CEST
DTSTART:20260329T010000
END:DAYLIGHT
BEGIN:STANDARD
TZOFFSETFROM:+0200
TZOFFSETTO:+0100
TZNAME:CET
DTSTART:20261025T010000
END:STANDARD
END:VTIMEZONE
BEGIN:VEVENT
DTSTART;TZID=Europe/Copenhagen:20250906T090000
DTEND;TZID=Europe/Copenhagen:20250906T170000
DTSTAMP:20260424T214300
CREATED:20250815T085931Z
LAST-MODIFIED:20250815T090000Z
UID:2919-1757149200-1757178000@oevv.dk
SUMMARY:Sogneudflugt
DESCRIPTION:Afgang fra Ørum kirke kl. 9 \nAfgang fra Vejrum kirke kl. 9.10 \nHjemkomst ca. kl. 17.
URL:https://oevv.dk/event/sogneudflugt-4/
LOCATION:Tjele
CATEGORIES:Sognearrangement
END:VEVENT
END:VCALENDAR