BEGIN:VCALENDAR
VERSION:2.0
PRODID:-//Ørum-Viskum-Vejrum kirker - ECPv6.15.20//NONSGML v1.0//EN
CALSCALE:GREGORIAN
METHOD:PUBLISH
X-WR-CALNAME:Ørum-Viskum-Vejrum kirker
X-ORIGINAL-URL:https://oevv.dk
X-WR-CALDESC:Begivenheder for Ørum-Viskum-Vejrum kirker
REFRESH-INTERVAL;VALUE=DURATION:PT1H
X-Robots-Tag:noindex
X-PUBLISHED-TTL:PT1H
BEGIN:VTIMEZONE
TZID:Europe/Copenhagen
BEGIN:DAYLIGHT
TZOFFSETFROM:+0100
TZOFFSETTO:+0200
TZNAME:CEST
DTSTART:20250330T010000
END:DAYLIGHT
BEGIN:STANDARD
TZOFFSETFROM:+0200
TZOFFSETTO:+0100
TZNAME:CET
DTSTART:20251026T010000
END:STANDARD
BEGIN:DAYLIGHT
TZOFFSETFROM:+0100
TZOFFSETTO:+0200
TZNAME:CEST
DTSTART:20260329T010000
END:DAYLIGHT
BEGIN:STANDARD
TZOFFSETFROM:+0200
TZOFFSETTO:+0100
TZNAME:CET
DTSTART:20261025T010000
END:STANDARD
BEGIN:DAYLIGHT
TZOFFSETFROM:+0100
TZOFFSETTO:+0200
TZNAME:CEST
DTSTART:20270328T010000
END:DAYLIGHT
BEGIN:STANDARD
TZOFFSETFROM:+0200
TZOFFSETTO:+0100
TZNAME:CET
DTSTART:20271031T010000
END:STANDARD
END:VTIMEZONE
BEGIN:VEVENT
DTSTART;TZID=Europe/Copenhagen:20260304T190000
DTEND;TZID=Europe/Copenhagen:20260304T213000
DTSTAMP:20260424T114133
CREATED:20260224T102448Z
LAST-MODIFIED:20260224T102531Z
UID:3184-1772650800-1772659800@oevv.dk
SUMMARY:Filmaften - Nørreåhuset
DESCRIPTION:Vi viser filmen “Sønnike” \n29 årige Lasse har næsten brudt forbindelsen med familien\, men efter en tragĩsk hændelse står han pludselig me ansvaret for sin meget yngre lillebror\, Vincent. Deres nye virkelighed tvinger Lasse til at konfrontere en smeretlig hemmelighed\, der presser på for at blive afsløret\, og som vil ændre de to brødres liv for altid.
URL:https://oevv.dk/event/filmaften-noerreaahuset/
LOCATION:Nørreåhuset\, Hovedgaden 25\, Vejrumbro\, Tjele\, 8830
CATEGORIES:Sognearrangement
END:VEVENT
BEGIN:VEVENT
DTSTART;TZID=Europe/Copenhagen:20260312T190000
DTEND;TZID=Europe/Copenhagen:20260312T213000
DTSTAMP:20260424T114133
CREATED:20260224T101920Z
LAST-MODIFIED:20260224T101920Z
UID:3180-1773342000-1773351000@oevv.dk
SUMMARY:Højskolesangaften - Nørreåhuset
DESCRIPTION:
URL:https://oevv.dk/event/hoejskolesangaften-noerreaahuset/
LOCATION:Nørreåhuset\, Hovedgaden 25\, Vejrumbro\, Tjele\, 8830
CATEGORIES:Højskolesangaften
END:VEVENT
END:VCALENDAR