BEGIN:VCALENDAR
VERSION:2.0
PRODID:-//Ørum-Viskum-Vejrum kirker - ECPv6.15.20//NONSGML v1.0//EN
CALSCALE:GREGORIAN
METHOD:PUBLISH
X-ORIGINAL-URL:https://oevv.dk
X-WR-CALDESC:Begivenheder for Ørum-Viskum-Vejrum kirker
REFRESH-INTERVAL;VALUE=DURATION:PT1H
X-Robots-Tag:noindex
X-PUBLISHED-TTL:PT1H
BEGIN:VTIMEZONE
TZID:Europe/Copenhagen
BEGIN:DAYLIGHT
TZOFFSETFROM:+0100
TZOFFSETTO:+0200
TZNAME:CEST
DTSTART:20220327T010000
END:DAYLIGHT
BEGIN:STANDARD
TZOFFSETFROM:+0200
TZOFFSETTO:+0100
TZNAME:CET
DTSTART:20221030T010000
END:STANDARD
BEGIN:DAYLIGHT
TZOFFSETFROM:+0100
TZOFFSETTO:+0200
TZNAME:CEST
DTSTART:20230326T010000
END:DAYLIGHT
BEGIN:STANDARD
TZOFFSETFROM:+0200
TZOFFSETTO:+0100
TZNAME:CET
DTSTART:20231029T010000
END:STANDARD
BEGIN:DAYLIGHT
TZOFFSETFROM:+0100
TZOFFSETTO:+0200
TZNAME:CEST
DTSTART:20240331T010000
END:DAYLIGHT
BEGIN:STANDARD
TZOFFSETFROM:+0200
TZOFFSETTO:+0100
TZNAME:CET
DTSTART:20241027T010000
END:STANDARD
END:VTIMEZONE
BEGIN:VEVENT
DTSTART;TZID=Europe/Copenhagen:20230208T190000
DTEND;TZID=Europe/Copenhagen:20230208T213000
DTSTAMP:20260424T005646
CREATED:20230113T075253Z
LAST-MODIFIED:20230113T075253Z
UID:1742-1675882800-1675891800@oevv.dk
SUMMARY:Kursusaften: Fred med Gud
DESCRIPTION:
URL:https://oevv.dk/event/kursusaften-fred-med-gud/
LOCATION:Tjele
CATEGORIES:Om den kristne tro
END:VEVENT
BEGIN:VEVENT
DTSTART;TZID=Europe/Copenhagen:20230222T190000
DTEND;TZID=Europe/Copenhagen:20230222T213000
DTSTAMP:20260424T005646
CREATED:20230113T075414Z
LAST-MODIFIED:20230221T164622Z
UID:1744-1677092400-1677101400@oevv.dk
SUMMARY:Kursusaften: Frelse og fortabelse
DESCRIPTION:
URL:https://oevv.dk/event/kursusaften-frelse-og-fortabelse/
LOCATION:Konfirmandstuen\, Præstegårdsvej 6\, Ørum\, Tjele\, 8830\, Danmark
CATEGORIES:Om den kristne tro
END:VEVENT
END:VCALENDAR