BEGIN:VCALENDAR
VERSION:2.0
PRODID:-//Ørum-Viskum-Vejrum kirker - ECPv6.15.20//NONSGML v1.0//EN
CALSCALE:GREGORIAN
METHOD:PUBLISH
X-ORIGINAL-URL:https://oevv.dk
X-WR-CALDESC:Begivenheder for Ørum-Viskum-Vejrum kirker
REFRESH-INTERVAL;VALUE=DURATION:PT1H
X-Robots-Tag:noindex
X-PUBLISHED-TTL:PT1H
BEGIN:VTIMEZONE
TZID:Europe/Copenhagen
BEGIN:DAYLIGHT
TZOFFSETFROM:+0100
TZOFFSETTO:+0200
TZNAME:CEST
DTSTART:20230326T010000
END:DAYLIGHT
BEGIN:STANDARD
TZOFFSETFROM:+0200
TZOFFSETTO:+0100
TZNAME:CET
DTSTART:20231029T010000
END:STANDARD
BEGIN:DAYLIGHT
TZOFFSETFROM:+0100
TZOFFSETTO:+0200
TZNAME:CEST
DTSTART:20240331T010000
END:DAYLIGHT
BEGIN:STANDARD
TZOFFSETFROM:+0200
TZOFFSETTO:+0100
TZNAME:CET
DTSTART:20241027T010000
END:STANDARD
BEGIN:DAYLIGHT
TZOFFSETFROM:+0100
TZOFFSETTO:+0200
TZNAME:CEST
DTSTART:20250330T010000
END:DAYLIGHT
BEGIN:STANDARD
TZOFFSETFROM:+0200
TZOFFSETTO:+0100
TZNAME:CET
DTSTART:20251026T010000
END:STANDARD
END:VTIMEZONE
BEGIN:VEVENT
DTSTART;TZID=Europe/Copenhagen:20240207T190000
DTEND;TZID=Europe/Copenhagen:20240207T210000
DTSTAMP:20260421T063750
CREATED:20240206T082215Z
LAST-MODIFIED:20240206T082215Z
UID:2191-1707332400-1707339600@oevv.dk
SUMMARY:Undervisning: Skabelse og syndefald
DESCRIPTION:Første aften om Det gamle Testamente. Skabelse og syndefald giver grundlaget for at forstå den verden vi lever vi. \nMennesket er skabt i Guds billede\, men mennesket gjorde oprør mod Gud\, valgte Gud fra\, og sådan kom ondskab og lidelse og død ind i vores virkelighed. \nMen Gud lovede en frelser.
URL:https://oevv.dk/event/undervisning-skabelse-og-syndefald/
LOCATION:Konfirmandstuen\, Præstegårdsvej 6\, Ørum\, Tjele\, 8830\, Danmark
CATEGORIES:Om den kristne tro
END:VEVENT
BEGIN:VEVENT
DTSTART;TZID=Europe/Copenhagen:20240221T190000
DTEND;TZID=Europe/Copenhagen:20240221T210000
DTSTAMP:20260421T063750
CREATED:20240206T082744Z
LAST-MODIFIED:20240206T082744Z
UID:2194-1708542000-1708549200@oevv.dk
SUMMARY:Undervisning: Jødernes historie
DESCRIPTION:Anden aften om Det gamle Testamente\, hvor vi følger det jødiske folks historie. Efterkommerne efter Abraham\, Isak og Jakob bliver til det jødiske folk\, hvor Gud vil lade sin frelser fødes. \nHvis vi vil forstå\, hvem Jesus er og det han gør og siger\, så er det godt at kende til det jødiske folks historie og hvordan Gud har handlet gennem dem og med dem.
URL:https://oevv.dk/event/undervisning-joedernes-historie/
LOCATION:Konfirmandstuen\, Præstegårdsvej 6\, Ørum\, Tjele\, 8830\, Danmark
CATEGORIES:Om den kristne tro
END:VEVENT
END:VCALENDAR