BEGIN:VCALENDAR
VERSION:2.0
PRODID:-//Ørum-Viskum-Vejrum kirker - ECPv6.15.20//NONSGML v1.0//EN
CALSCALE:GREGORIAN
METHOD:PUBLISH
X-ORIGINAL-URL:https://oevv.dk
X-WR-CALDESC:Begivenheder for Ørum-Viskum-Vejrum kirker
REFRESH-INTERVAL;VALUE=DURATION:PT1H
X-Robots-Tag:noindex
X-PUBLISHED-TTL:PT1H
BEGIN:VTIMEZONE
TZID:Europe/Copenhagen
BEGIN:DAYLIGHT
TZOFFSETFROM:+0100
TZOFFSETTO:+0200
TZNAME:CEST
DTSTART:20240331T010000
END:DAYLIGHT
BEGIN:STANDARD
TZOFFSETFROM:+0200
TZOFFSETTO:+0100
TZNAME:CET
DTSTART:20241027T010000
END:STANDARD
BEGIN:DAYLIGHT
TZOFFSETFROM:+0100
TZOFFSETTO:+0200
TZNAME:CEST
DTSTART:20250330T010000
END:DAYLIGHT
BEGIN:STANDARD
TZOFFSETFROM:+0200
TZOFFSETTO:+0100
TZNAME:CET
DTSTART:20251026T010000
END:STANDARD
BEGIN:DAYLIGHT
TZOFFSETFROM:+0100
TZOFFSETTO:+0200
TZNAME:CEST
DTSTART:20260329T010000
END:DAYLIGHT
BEGIN:STANDARD
TZOFFSETFROM:+0200
TZOFFSETTO:+0100
TZNAME:CET
DTSTART:20261025T010000
END:STANDARD
END:VTIMEZONE
BEGIN:VEVENT
DTSTART;TZID=Europe/Copenhagen:20250115T190000
DTEND;TZID=Europe/Copenhagen:20250115T210000
DTSTAMP:20260420T115154
CREATED:20241202T103332Z
LAST-MODIFIED:20241202T103332Z
UID:2565-1736967600-1736974800@oevv.dk
SUMMARY:Om den kristne tro - Konfirmandstuen
DESCRIPTION:
URL:https://oevv.dk/event/om-den-kristne-tro-konfirmandstuen/
LOCATION:Konfirmandstuen\, Præstegårdsvej 6\, Ørum\, Tjele\, 8830\, Danmark
CATEGORIES:Om den kristne tro
END:VEVENT
BEGIN:VEVENT
DTSTART;TZID=Europe/Copenhagen:20250129T190000
DTEND;TZID=Europe/Copenhagen:20250129T210000
DTSTAMP:20260420T115154
CREATED:20241202T104012Z
LAST-MODIFIED:20241202T104012Z
UID:2575-1738177200-1738184400@oevv.dk
SUMMARY:Om den kristne tro - Konfirmandstuen
DESCRIPTION:
URL:https://oevv.dk/event/om-den-kristne-tro-konfirmandstuen-2/
LOCATION:Konfirmandstuen\, Præstegårdsvej 6\, Ørum\, Tjele\, 8830\, Danmark
CATEGORIES:Om den kristne tro
END:VEVENT
END:VCALENDAR